BEGIN:VCALENDAR
VERSION:2.0
PRODID:http://www.kufer.de/kuferweb / DE
METHOD:PUBLISH
CALSCALE:GREGORIAN
X-WR-TIMEZONE:Europe/Berlin
BEGIN:VTIMEZONE
TZID:Europe/Berlin
X-LIC-LOCATION:Europe/Berlin
BEGIN:DAYLIGHT
TZOFFSETFROM:+0100
TZOFFSETTO:+0200
TZNAME:CEST
DTSTART;TZID=Europe/Berlin:19700329T020000
RRULE:FREQ=YEARLY;INTERVAL=1;BYDAY=-1SU;BYMONTH=3
END:DAYLIGHT
BEGIN:STANDARD
TZOFFSETFROM:+0200
TZOFFSETTO:+0100
TZNAME:CET
DTSTART;TZID=Europe/Berlin:19701025T030000
RRULE:FREQ=YEARLY;INTERVAL=1;BYDAY=-1SU;BYMONTH=10
END:STANDARD
END:VTIMEZONE
BEGIN:VEVENT
DTSTAMP:20260423T135513
DTSTART;TZID=Europe/Berlin:20250916T183000
DTEND;TZID=Europe/Berlin:20250916T193000
UID:25-G4195-20250916T183000@TIRSCHENREUTH
SUMMARY:Yoga für Schulter, Nacken und Rücken (25-G4195) 
LOCATION:Waldershof, Grundschule, Ludwig-Hoffmann-Straße 2, 95679 Waldershof
END:VEVENT
BEGIN:VEVENT
DTSTAMP:20260423T135513
DTSTART;TZID=Europe/Berlin:20250923T183000
DTEND;TZID=Europe/Berlin:20250923T193000
UID:25-G4195-20250923T183000@TIRSCHENREUTH
SUMMARY:Yoga für Schulter, Nacken und Rücken (25-G4195) 
LOCATION:Waldershof, Grundschule, Ludwig-Hoffmann-Straße 2, 95679 Waldershof
END:VEVENT
BEGIN:VEVENT
DTSTAMP:20260423T135513
DTSTART;TZID=Europe/Berlin:20251104T183000
DTEND;TZID=Europe/Berlin:20251104T193000
UID:25-G4195-20251104T183000@TIRSCHENREUTH
SUMMARY:Yoga für Schulter, Nacken und Rücken (25-G4195) 
LOCATION:Waldershof, Grundschule, Ludwig-Hoffmann-Straße 2, 95679 Waldershof
END:VEVENT
BEGIN:VEVENT
DTSTAMP:20260423T135513
DTSTART;TZID=Europe/Berlin:20251111T183000
DTEND;TZID=Europe/Berlin:20251111T193000
UID:25-G4195-20251111T183000@TIRSCHENREUTH
SUMMARY:Yoga für Schulter, Nacken und Rücken (25-G4195) 
LOCATION:Waldershof, Grundschule, Ludwig-Hoffmann-Straße 2, 95679 Waldershof
END:VEVENT
BEGIN:VEVENT
DTSTAMP:20260423T135513
DTSTART;TZID=Europe/Berlin:20251118T183000
DTEND;TZID=Europe/Berlin:20251118T193000
UID:25-G4195-20251118T183000@TIRSCHENREUTH
SUMMARY:Yoga für Schulter, Nacken und Rücken (25-G4195) 
LOCATION:Waldershof, Grundschule, Ludwig-Hoffmann-Straße 2, 95679 Waldershof
END:VEVENT
BEGIN:VEVENT
DTSTAMP:20260423T135513
DTSTART;TZID=Europe/Berlin:20251202T183000
DTEND;TZID=Europe/Berlin:20251202T193000
UID:25-G4195-20251202T183000@TIRSCHENREUTH
SUMMARY:Yoga für Schulter, Nacken und Rücken (25-G4195) 
LOCATION:Waldershof, Grundschule, Ludwig-Hoffmann-Straße 2, 95679 Waldershof
END:VEVENT
BEGIN:VEVENT
DTSTAMP:20260423T135513
DTSTART;TZID=Europe/Berlin:20251209T183000
DTEND;TZID=Europe/Berlin:20251209T193000
UID:25-G4195-20251209T183000@TIRSCHENREUTH
SUMMARY:Yoga für Schulter, Nacken und Rücken (25-G4195) 
LOCATION:Waldershof, Grundschule, Ludwig-Hoffmann-Straße 2, 95679 Waldershof
END:VEVENT
END:VCALENDAR