BEGIN:VCALENDAR
VERSION:2.0
PRODID:http://www.kufer.de/kuferweb / DE
METHOD:PUBLISH
CALSCALE:GREGORIAN
X-WR-TIMEZONE:Europe/Berlin
BEGIN:VTIMEZONE
TZID:Europe/Berlin
X-LIC-LOCATION:Europe/Berlin
BEGIN:DAYLIGHT
TZOFFSETFROM:+0100
TZOFFSETTO:+0200
TZNAME:CEST
DTSTART;TZID=Europe/Berlin:19700329T020000
RRULE:FREQ=YEARLY;INTERVAL=1;BYDAY=-1SU;BYMONTH=3
END:DAYLIGHT
BEGIN:STANDARD
TZOFFSETFROM:+0200
TZOFFSETTO:+0100
TZNAME:CET
DTSTART;TZID=Europe/Berlin:19701025T030000
RRULE:FREQ=YEARLY;INTERVAL=1;BYDAY=-1SU;BYMONTH=10
END:STANDARD
END:VTIMEZONE
BEGIN:VEVENT
DTSTAMP:20260424T184843
DTSTART;TZID=Europe/Berlin:20260414T184500
DTEND;TZID=Europe/Berlin:20260414T194500
UID:25-G4177-20260414T184500@TIRSCHENREUTH
SUMMARY:Hatha-Yoga (25-G4177) 
LOCATION:Pechbrunn - Groschlattengrün,  Kinderhaus, Turnraum, Quellenweg 21, 95701 Pechbrunn-Groschlattengrün
END:VEVENT
BEGIN:VEVENT
DTSTAMP:20260424T184843
DTSTART;TZID=Europe/Berlin:20260421T184500
DTEND;TZID=Europe/Berlin:20260421T194500
UID:25-G4177-20260421T184500@TIRSCHENREUTH
SUMMARY:Hatha-Yoga (25-G4177) 
LOCATION:Pechbrunn - Groschlattengrün,  Kinderhaus, Turnraum, Quellenweg 21, 95701 Pechbrunn-Groschlattengrün
END:VEVENT
BEGIN:VEVENT
DTSTAMP:20260424T184843
DTSTART;TZID=Europe/Berlin:20260428T184500
DTEND;TZID=Europe/Berlin:20260428T194500
UID:25-G4177-20260428T184500@TIRSCHENREUTH
SUMMARY:Hatha-Yoga (25-G4177) 
LOCATION:Pechbrunn - Groschlattengrün,  Kinderhaus, Turnraum, Quellenweg 21, 95701 Pechbrunn-Groschlattengrün
END:VEVENT
BEGIN:VEVENT
DTSTAMP:20260424T184843
DTSTART;TZID=Europe/Berlin:20260505T184500
DTEND;TZID=Europe/Berlin:20260505T194500
UID:25-G4177-20260505T184500@TIRSCHENREUTH
SUMMARY:Hatha-Yoga (25-G4177) 
LOCATION:Pechbrunn - Groschlattengrün,  Kinderhaus, Turnraum, Quellenweg 21, 95701 Pechbrunn-Groschlattengrün
END:VEVENT
BEGIN:VEVENT
DTSTAMP:20260424T184843
DTSTART;TZID=Europe/Berlin:20260512T184500
DTEND;TZID=Europe/Berlin:20260512T194500
UID:25-G4177-20260512T184500@TIRSCHENREUTH
SUMMARY:Hatha-Yoga (25-G4177) 
LOCATION:Pechbrunn - Groschlattengrün,  Kinderhaus, Turnraum, Quellenweg 21, 95701 Pechbrunn-Groschlattengrün
END:VEVENT
BEGIN:VEVENT
DTSTAMP:20260424T184843
DTSTART;TZID=Europe/Berlin:20260519T184500
DTEND;TZID=Europe/Berlin:20260519T194500
UID:25-G4177-20260519T184500@TIRSCHENREUTH
SUMMARY:Hatha-Yoga (25-G4177) 
LOCATION:Pechbrunn - Groschlattengrün,  Kinderhaus, Turnraum, Quellenweg 21, 95701 Pechbrunn-Groschlattengrün
END:VEVENT
END:VCALENDAR