BEGIN:VCALENDAR
VERSION:2.0
PRODID:http://www.kufer.de/kuferweb / DE
METHOD:PUBLISH
CALSCALE:GREGORIAN
X-WR-TIMEZONE:Europe/Berlin
BEGIN:VTIMEZONE
TZID:Europe/Berlin
X-LIC-LOCATION:Europe/Berlin
BEGIN:DAYLIGHT
TZOFFSETFROM:+0100
TZOFFSETTO:+0200
TZNAME:CEST
DTSTART;TZID=Europe/Berlin:19700329T020000
RRULE:FREQ=YEARLY;INTERVAL=1;BYDAY=-1SU;BYMONTH=3
END:DAYLIGHT
BEGIN:STANDARD
TZOFFSETFROM:+0200
TZOFFSETTO:+0100
TZNAME:CET
DTSTART;TZID=Europe/Berlin:19701025T030000
RRULE:FREQ=YEARLY;INTERVAL=1;BYDAY=-1SU;BYMONTH=10
END:STANDARD
END:VTIMEZONE
BEGIN:VEVENT
DTSTAMP:20260424T220743
DTSTART;TZID=Europe/Berlin:20260622T183000
DTEND;TZID=Europe/Berlin:20260622T194500
UID:25-G4134-20260622T183000@TIRSCHENREUTH
SUMMARY:Hatha-Yoga im Geschichtspark (25-G4134) 
LOCATION:Bärnau, Geschichtspark Bärnau - Tachov (Naaber Straße 5), Naaber Straße 5, 95671 Bärnau
END:VEVENT
BEGIN:VEVENT
DTSTAMP:20260424T220743
DTSTART;TZID=Europe/Berlin:20260629T183000
DTEND;TZID=Europe/Berlin:20260629T194500
UID:25-G4134-20260629T183000@TIRSCHENREUTH
SUMMARY:Hatha-Yoga im Geschichtspark (25-G4134) 
LOCATION:Bärnau, Geschichtspark Bärnau - Tachov (Naaber Straße 5), Naaber Straße 5, 95671 Bärnau
END:VEVENT
BEGIN:VEVENT
DTSTAMP:20260424T220743
DTSTART;TZID=Europe/Berlin:20260706T183000
DTEND;TZID=Europe/Berlin:20260706T194500
UID:25-G4134-20260706T183000@TIRSCHENREUTH
SUMMARY:Hatha-Yoga im Geschichtspark (25-G4134) 
LOCATION:Bärnau, Geschichtspark Bärnau - Tachov (Naaber Straße 5), Naaber Straße 5, 95671 Bärnau
END:VEVENT
BEGIN:VEVENT
DTSTAMP:20260424T220743
DTSTART;TZID=Europe/Berlin:20260713T183000
DTEND;TZID=Europe/Berlin:20260713T194500
UID:25-G4134-20260713T183000@TIRSCHENREUTH
SUMMARY:Hatha-Yoga im Geschichtspark (25-G4134) 
LOCATION:Bärnau, Geschichtspark Bärnau - Tachov (Naaber Straße 5), Naaber Straße 5, 95671 Bärnau
END:VEVENT
BEGIN:VEVENT
DTSTAMP:20260424T220743
DTSTART;TZID=Europe/Berlin:20260720T183000
DTEND;TZID=Europe/Berlin:20260720T194500
UID:25-G4134-20260720T183000@TIRSCHENREUTH
SUMMARY:Hatha-Yoga im Geschichtspark (25-G4134) 
LOCATION:Bärnau, Geschichtspark Bärnau - Tachov (Naaber Straße 5), Naaber Straße 5, 95671 Bärnau
END:VEVENT
END:VCALENDAR