BEGIN:VCALENDAR
VERSION:2.0
PRODID:http://www.kufer.de/kuferweb / DE
METHOD:PUBLISH
CALSCALE:GREGORIAN
X-WR-TIMEZONE:Europe/Berlin
BEGIN:VTIMEZONE
TZID:Europe/Berlin
X-LIC-LOCATION:Europe/Berlin
BEGIN:DAYLIGHT
TZOFFSETFROM:+0100
TZOFFSETTO:+0200
TZNAME:CEST
DTSTART;TZID=Europe/Berlin:19700329T020000
RRULE:FREQ=YEARLY;INTERVAL=1;BYDAY=-1SU;BYMONTH=3
END:DAYLIGHT
BEGIN:STANDARD
TZOFFSETFROM:+0200
TZOFFSETTO:+0100
TZNAME:CET
DTSTART;TZID=Europe/Berlin:19701025T030000
RRULE:FREQ=YEARLY;INTERVAL=1;BYDAY=-1SU;BYMONTH=10
END:STANDARD
END:VTIMEZONE
BEGIN:VEVENT
DTSTAMP:20260424T200947
DTSTART;TZID=Europe/Berlin:20260417T083000
DTEND;TZID=Europe/Berlin:20260417T094500
UID:25-G4122-20260417T083000@TIRSCHENREUTH
SUMMARY:Hatha-Yoga - am Vormittag (25-G4122) 
LOCATION:Tirschenreuth, FC-Heim, Gymnastikraum, 1. Stock, Mähringer Straße 30, 95643 Tirschenreuth
END:VEVENT
BEGIN:VEVENT
DTSTAMP:20260424T200947
DTSTART;TZID=Europe/Berlin:20260424T083000
DTEND;TZID=Europe/Berlin:20260424T094500
UID:25-G4122-20260424T083000@TIRSCHENREUTH
SUMMARY:Hatha-Yoga - am Vormittag (25-G4122) 
LOCATION:Tirschenreuth, FC-Heim, Gymnastikraum, 1. Stock, Mähringer Straße 30, 95643 Tirschenreuth
END:VEVENT
BEGIN:VEVENT
DTSTAMP:20260424T200947
DTSTART;TZID=Europe/Berlin:20260508T083000
DTEND;TZID=Europe/Berlin:20260508T094500
UID:25-G4122-20260508T083000@TIRSCHENREUTH
SUMMARY:Hatha-Yoga - am Vormittag (25-G4122) 
LOCATION:Tirschenreuth, FC-Heim, Gymnastikraum, 1. Stock, Mähringer Straße 30, 95643 Tirschenreuth
END:VEVENT
BEGIN:VEVENT
DTSTAMP:20260424T200947
DTSTART;TZID=Europe/Berlin:20260515T083000
DTEND;TZID=Europe/Berlin:20260515T094500
UID:25-G4122-20260515T083000@TIRSCHENREUTH
SUMMARY:Hatha-Yoga - am Vormittag (25-G4122) 
LOCATION:Tirschenreuth, FC-Heim, Gymnastikraum, 1. Stock, Mähringer Straße 30, 95643 Tirschenreuth
END:VEVENT
BEGIN:VEVENT
DTSTAMP:20260424T200947
DTSTART;TZID=Europe/Berlin:20260522T083000
DTEND;TZID=Europe/Berlin:20260522T094500
UID:25-G4122-20260522T083000@TIRSCHENREUTH
SUMMARY:Hatha-Yoga - am Vormittag (25-G4122) 
LOCATION:Tirschenreuth, FC-Heim, Gymnastikraum, 1. Stock, Mähringer Straße 30, 95643 Tirschenreuth
END:VEVENT
END:VCALENDAR