BEGIN:VCALENDAR
VERSION:2.0
PRODID:http://www.kufer.de/kuferweb / DE
METHOD:PUBLISH
CALSCALE:GREGORIAN
X-WR-TIMEZONE:Europe/Berlin
BEGIN:VTIMEZONE
TZID:Europe/Berlin
X-LIC-LOCATION:Europe/Berlin
BEGIN:DAYLIGHT
TZOFFSETFROM:+0100
TZOFFSETTO:+0200
TZNAME:CEST
DTSTART;TZID=Europe/Berlin:19700329T020000
RRULE:FREQ=YEARLY;INTERVAL=1;BYDAY=-1SU;BYMONTH=3
END:DAYLIGHT
BEGIN:STANDARD
TZOFFSETFROM:+0200
TZOFFSETTO:+0100
TZNAME:CET
DTSTART;TZID=Europe/Berlin:19701025T030000
RRULE:FREQ=YEARLY;INTERVAL=1;BYDAY=-1SU;BYMONTH=10
END:STANDARD
END:VTIMEZONE
BEGIN:VEVENT
DTSTAMP:20260424T184748
DTSTART;TZID=Europe/Berlin:20260413T190000
DTEND;TZID=Europe/Berlin:20260413T200000
UID:25-G2201-20260413T190000@TIRSCHENREUTH
SUMMARY:Hawaiianischer Hula Tanz (25-G2201) 
LOCATION:Tirschenreuth, Landratsamt (Mähringer Straße 9), vhs-Gymnastikraum, Mähringer Straße 9, 95643 Tirschenreuth
END:VEVENT
BEGIN:VEVENT
DTSTAMP:20260424T184748
DTSTART;TZID=Europe/Berlin:20260420T190000
DTEND;TZID=Europe/Berlin:20260420T200000
UID:25-G2201-20260420T190000@TIRSCHENREUTH
SUMMARY:Hawaiianischer Hula Tanz (25-G2201) 
LOCATION:Tirschenreuth, Landratsamt (Mähringer Straße 9), vhs-Gymnastikraum, Mähringer Straße 9, 95643 Tirschenreuth
END:VEVENT
BEGIN:VEVENT
DTSTAMP:20260424T184748
DTSTART;TZID=Europe/Berlin:20260427T190000
DTEND;TZID=Europe/Berlin:20260427T200000
UID:25-G2201-20260427T190000@TIRSCHENREUTH
SUMMARY:Hawaiianischer Hula Tanz (25-G2201) 
LOCATION:Tirschenreuth, Landratsamt (Mähringer Straße 9), vhs-Gymnastikraum, Mähringer Straße 9, 95643 Tirschenreuth
END:VEVENT
BEGIN:VEVENT
DTSTAMP:20260424T184748
DTSTART;TZID=Europe/Berlin:20260504T190000
DTEND;TZID=Europe/Berlin:20260504T200000
UID:25-G2201-20260504T190000@TIRSCHENREUTH
SUMMARY:Hawaiianischer Hula Tanz (25-G2201) 
LOCATION:Tirschenreuth, Landratsamt (Mähringer Straße 9), vhs-Gymnastikraum, Mähringer Straße 9, 95643 Tirschenreuth
END:VEVENT
END:VCALENDAR