BEGIN:VCALENDAR
VERSION:2.0
PRODID:http://www.kufer.de/kuferweb / DE
METHOD:PUBLISH
CALSCALE:GREGORIAN
X-WR-TIMEZONE:Europe/Berlin
BEGIN:VTIMEZONE
TZID:Europe/Berlin
X-LIC-LOCATION:Europe/Berlin
BEGIN:DAYLIGHT
TZOFFSETFROM:+0100
TZOFFSETTO:+0200
TZNAME:CEST
DTSTART;TZID=Europe/Berlin:19700329T020000
RRULE:FREQ=YEARLY;INTERVAL=1;BYDAY=-1SU;BYMONTH=3
END:DAYLIGHT
BEGIN:STANDARD
TZOFFSETFROM:+0200
TZOFFSETTO:+0100
TZNAME:CET
DTSTART;TZID=Europe/Berlin:19701025T030000
RRULE:FREQ=YEARLY;INTERVAL=1;BYDAY=-1SU;BYMONTH=10
END:STANDARD
END:VTIMEZONE
BEGIN:VEVENT
DTSTAMP:20260420T233710
DTSTART;TZID=Europe/Berlin:20260626T183000
DTEND;TZID=Europe/Berlin:20260626T200000
UID:25-G2104D-20260626T183000@TIRSCHENREUTH
SUMMARY:Orientalischer Tanz - "Kostümparty" (25-G2104D) 
LOCATION:Tirschenreuth, Landratsamt (Mähringer Straße 9), vhs-Gymnastikraum, Mähringer Straße 9, 95643 Tirschenreuth
END:VEVENT
END:VCALENDAR