BEGIN:VCALENDAR
VERSION:2.0
PRODID:http://www.kufer.de/kuferweb / DE
METHOD:PUBLISH
CALSCALE:GREGORIAN
X-WR-TIMEZONE:Europe/Berlin
BEGIN:VTIMEZONE
TZID:Europe/Berlin
X-LIC-LOCATION:Europe/Berlin
BEGIN:DAYLIGHT
TZOFFSETFROM:+0100
TZOFFSETTO:+0200
TZNAME:CEST
DTSTART;TZID=Europe/Berlin:19700329T020000
RRULE:FREQ=YEARLY;INTERVAL=1;BYDAY=-1SU;BYMONTH=3
END:DAYLIGHT
BEGIN:STANDARD
TZOFFSETFROM:+0200
TZOFFSETTO:+0100
TZNAME:CET
DTSTART;TZID=Europe/Berlin:19701025T030000
RRULE:FREQ=YEARLY;INTERVAL=1;BYDAY=-1SU;BYMONTH=10
END:STANDARD
END:VTIMEZONE
BEGIN:VEVENT
DTSTAMP:20260424T220359
DTSTART;TZID=Europe/Berlin:20260702T180000
DTEND;TZID=Europe/Berlin:20260702T184500
UID:25-G1605-20260702T180000@TIRSCHENREUTH
SUMMARY:Aqua Dance (25-G1605) 
LOCATION:Erbendorf, Stadtbad (Stadtbadstraße 20), Stadtbadstraße 20, 92681 Erbendorf
END:VEVENT
BEGIN:VEVENT
DTSTAMP:20260424T220359
DTSTART;TZID=Europe/Berlin:20260709T180000
DTEND;TZID=Europe/Berlin:20260709T184500
UID:25-G1605-20260709T180000@TIRSCHENREUTH
SUMMARY:Aqua Dance (25-G1605) 
LOCATION:Erbendorf, Stadtbad (Stadtbadstraße 20), Stadtbadstraße 20, 92681 Erbendorf
END:VEVENT
BEGIN:VEVENT
DTSTAMP:20260424T220359
DTSTART;TZID=Europe/Berlin:20260716T180000
DTEND;TZID=Europe/Berlin:20260716T184500
UID:25-G1605-20260716T180000@TIRSCHENREUTH
SUMMARY:Aqua Dance (25-G1605) 
LOCATION:Erbendorf, Stadtbad (Stadtbadstraße 20), Stadtbadstraße 20, 92681 Erbendorf
END:VEVENT
BEGIN:VEVENT
DTSTAMP:20260424T220359
DTSTART;TZID=Europe/Berlin:20260723T180000
DTEND;TZID=Europe/Berlin:20260723T184500
UID:25-G1605-20260723T180000@TIRSCHENREUTH
SUMMARY:Aqua Dance (25-G1605) 
LOCATION:Erbendorf, Stadtbad (Stadtbadstraße 20), Stadtbadstraße 20, 92681 Erbendorf
END:VEVENT
BEGIN:VEVENT
DTSTAMP:20260424T220359
DTSTART;TZID=Europe/Berlin:20260730T180000
DTEND;TZID=Europe/Berlin:20260730T184500
UID:25-G1605-20260730T180000@TIRSCHENREUTH
SUMMARY:Aqua Dance (25-G1605) 
LOCATION:Erbendorf, Stadtbad (Stadtbadstraße 20), Stadtbadstraße 20, 92681 Erbendorf
END:VEVENT
END:VCALENDAR