BEGIN:VCALENDAR
VERSION:2.0
PRODID:http://www.kufer.de/kuferweb / DE
METHOD:PUBLISH
CALSCALE:GREGORIAN
X-WR-TIMEZONE:Europe/Berlin
BEGIN:VTIMEZONE
TZID:Europe/Berlin
X-LIC-LOCATION:Europe/Berlin
BEGIN:DAYLIGHT
TZOFFSETFROM:+0100
TZOFFSETTO:+0200
TZNAME:CEST
DTSTART;TZID=Europe/Berlin:19700329T020000
RRULE:FREQ=YEARLY;INTERVAL=1;BYDAY=-1SU;BYMONTH=3
END:DAYLIGHT
BEGIN:STANDARD
TZOFFSETFROM:+0200
TZOFFSETTO:+0100
TZNAME:CET
DTSTART;TZID=Europe/Berlin:19701025T030000
RRULE:FREQ=YEARLY;INTERVAL=1;BYDAY=-1SU;BYMONTH=10
END:STANDARD
END:VTIMEZONE
BEGIN:VEVENT
DTSTAMP:20260424T081811
DTSTART;TZID=Europe/Berlin:20260414T194500
DTEND;TZID=Europe/Berlin:20260414T204500
UID:25-G1320-20260414T194500@TIRSCHENREUTH
SUMMARY:Stott Pilates® und Zenga®  Level 1 + Level 2 (25-G1320) 
LOCATION:Erbendorf, Mittelschule, Gymnastikraum, Frühmeßgasse 15, 92681 Erbendorf
END:VEVENT
BEGIN:VEVENT
DTSTAMP:20260424T081811
DTSTART;TZID=Europe/Berlin:20260421T194500
DTEND;TZID=Europe/Berlin:20260421T204500
UID:25-G1320-20260421T194500@TIRSCHENREUTH
SUMMARY:Stott Pilates® und Zenga®  Level 1 + Level 2 (25-G1320) 
LOCATION:Erbendorf, Mittelschule, Gymnastikraum, Frühmeßgasse 15, 92681 Erbendorf
END:VEVENT
BEGIN:VEVENT
DTSTAMP:20260424T081811
DTSTART;TZID=Europe/Berlin:20260428T194500
DTEND;TZID=Europe/Berlin:20260428T204500
UID:25-G1320-20260428T194500@TIRSCHENREUTH
SUMMARY:Stott Pilates® und Zenga®  Level 1 + Level 2 (25-G1320) 
LOCATION:Erbendorf, Mittelschule, Gymnastikraum, Frühmeßgasse 15, 92681 Erbendorf
END:VEVENT
BEGIN:VEVENT
DTSTAMP:20260424T081811
DTSTART;TZID=Europe/Berlin:20260505T194500
DTEND;TZID=Europe/Berlin:20260505T204500
UID:25-G1320-20260505T194500@TIRSCHENREUTH
SUMMARY:Stott Pilates® und Zenga®  Level 1 + Level 2 (25-G1320) 
LOCATION:Erbendorf, Mittelschule, Gymnastikraum, Frühmeßgasse 15, 92681 Erbendorf
END:VEVENT
BEGIN:VEVENT
DTSTAMP:20260424T081811
DTSTART;TZID=Europe/Berlin:20260512T194500
DTEND;TZID=Europe/Berlin:20260512T204500
UID:25-G1320-20260512T194500@TIRSCHENREUTH
SUMMARY:Stott Pilates® und Zenga®  Level 1 + Level 2 (25-G1320) 
LOCATION:Erbendorf, Mittelschule, Gymnastikraum, Frühmeßgasse 15, 92681 Erbendorf
END:VEVENT
BEGIN:VEVENT
DTSTAMP:20260424T081811
DTSTART;TZID=Europe/Berlin:20260519T194500
DTEND;TZID=Europe/Berlin:20260519T204500
UID:25-G1320-20260519T194500@TIRSCHENREUTH
SUMMARY:Stott Pilates® und Zenga®  Level 1 + Level 2 (25-G1320) 
LOCATION:Erbendorf, Mittelschule, Gymnastikraum, Frühmeßgasse 15, 92681 Erbendorf
END:VEVENT
END:VCALENDAR