BEGIN:VCALENDAR
VERSION:2.0
PRODID:http://www.kufer.de/kuferweb / DE
METHOD:PUBLISH
CALSCALE:GREGORIAN
X-WR-TIMEZONE:Europe/Berlin
BEGIN:VTIMEZONE
TZID:Europe/Berlin
X-LIC-LOCATION:Europe/Berlin
BEGIN:DAYLIGHT
TZOFFSETFROM:+0100
TZOFFSETTO:+0200
TZNAME:CEST
DTSTART;TZID=Europe/Berlin:19700329T020000
RRULE:FREQ=YEARLY;INTERVAL=1;BYDAY=-1SU;BYMONTH=3
END:DAYLIGHT
BEGIN:STANDARD
TZOFFSETFROM:+0200
TZOFFSETTO:+0100
TZNAME:CET
DTSTART;TZID=Europe/Berlin:19701025T030000
RRULE:FREQ=YEARLY;INTERVAL=1;BYDAY=-1SU;BYMONTH=10
END:STANDARD
END:VTIMEZONE
BEGIN:VEVENT
DTSTAMP:20260420T174239
DTSTART;TZID=Europe/Berlin:20260421T173000
DTEND;TZID=Europe/Berlin:20260421T183000
UID:25-G1308B-20260421T173000@TIRSCHENREUTH
SUMMARY:Top-Body mit Pilates (25-G1308B) 
LOCATION:Tirschenreuth, FC-Heim, Gymnastikraum, 1. Stock, Mähringer Straße 30, 95643 Tirschenreuth
END:VEVENT
BEGIN:VEVENT
DTSTAMP:20260420T174239
DTSTART;TZID=Europe/Berlin:20260428T173000
DTEND;TZID=Europe/Berlin:20260428T183000
UID:25-G1308B-20260428T173000@TIRSCHENREUTH
SUMMARY:Top-Body mit Pilates (25-G1308B) 
LOCATION:Tirschenreuth, FC-Heim, Gymnastikraum, 1. Stock, Mähringer Straße 30, 95643 Tirschenreuth
END:VEVENT
BEGIN:VEVENT
DTSTAMP:20260420T174239
DTSTART;TZID=Europe/Berlin:20260505T173000
DTEND;TZID=Europe/Berlin:20260505T183000
UID:25-G1308B-20260505T173000@TIRSCHENREUTH
SUMMARY:Top-Body mit Pilates (25-G1308B) 
LOCATION:Tirschenreuth, FC-Heim, Gymnastikraum, 1. Stock, Mähringer Straße 30, 95643 Tirschenreuth
END:VEVENT
BEGIN:VEVENT
DTSTAMP:20260420T174239
DTSTART;TZID=Europe/Berlin:20260512T173000
DTEND;TZID=Europe/Berlin:20260512T183000
UID:25-G1308B-20260512T173000@TIRSCHENREUTH
SUMMARY:Top-Body mit Pilates (25-G1308B) 
LOCATION:Tirschenreuth, FC-Heim, Gymnastikraum, 1. Stock, Mähringer Straße 30, 95643 Tirschenreuth
END:VEVENT
BEGIN:VEVENT
DTSTAMP:20260420T174239
DTSTART;TZID=Europe/Berlin:20260519T173000
DTEND;TZID=Europe/Berlin:20260519T183000
UID:25-G1308B-20260519T173000@TIRSCHENREUTH
SUMMARY:Top-Body mit Pilates (25-G1308B) 
LOCATION:Tirschenreuth, FC-Heim, Gymnastikraum, 1. Stock, Mähringer Straße 30, 95643 Tirschenreuth
END:VEVENT
END:VCALENDAR