BEGIN:VCALENDAR
VERSION:2.0
PRODID:http://www.kufer.de/kuferweb / DE
METHOD:PUBLISH
CALSCALE:GREGORIAN
X-WR-TIMEZONE:Europe/Berlin
BEGIN:VTIMEZONE
TZID:Europe/Berlin
X-LIC-LOCATION:Europe/Berlin
BEGIN:DAYLIGHT
TZOFFSETFROM:+0100
TZOFFSETTO:+0200
TZNAME:CEST
DTSTART;TZID=Europe/Berlin:19700329T020000
RRULE:FREQ=YEARLY;INTERVAL=1;BYDAY=-1SU;BYMONTH=3
END:DAYLIGHT
BEGIN:STANDARD
TZOFFSETFROM:+0200
TZOFFSETTO:+0100
TZNAME:CET
DTSTART;TZID=Europe/Berlin:19701025T030000
RRULE:FREQ=YEARLY;INTERVAL=1;BYDAY=-1SU;BYMONTH=10
END:STANDARD
END:VTIMEZONE
BEGIN:VEVENT
DTSTAMP:20260424T184859
DTSTART;TZID=Europe/Berlin:20260416T090000
DTEND;TZID=Europe/Berlin:20260416T100000
UID:25-G1195-20260416T090000@TIRSCHENREUTH
SUMMARY:Fit am Morgen (25-G1195) 
LOCATION:Waldershof, Grundschule, Ludwig-Hoffmann-Straße 2, 95679 Waldershof
END:VEVENT
BEGIN:VEVENT
DTSTAMP:20260424T184859
DTSTART;TZID=Europe/Berlin:20260423T090000
DTEND;TZID=Europe/Berlin:20260423T100000
UID:25-G1195-20260423T090000@TIRSCHENREUTH
SUMMARY:Fit am Morgen (25-G1195) 
LOCATION:Waldershof, Grundschule, Ludwig-Hoffmann-Straße 2, 95679 Waldershof
END:VEVENT
BEGIN:VEVENT
DTSTAMP:20260424T184859
DTSTART;TZID=Europe/Berlin:20260430T090000
DTEND;TZID=Europe/Berlin:20260430T100000
UID:25-G1195-20260430T090000@TIRSCHENREUTH
SUMMARY:Fit am Morgen (25-G1195) 
LOCATION:Waldershof, Grundschule, Ludwig-Hoffmann-Straße 2, 95679 Waldershof
END:VEVENT
BEGIN:VEVENT
DTSTAMP:20260424T184859
DTSTART;TZID=Europe/Berlin:20260507T090000
DTEND;TZID=Europe/Berlin:20260507T100000
UID:25-G1195-20260507T090000@TIRSCHENREUTH
SUMMARY:Fit am Morgen (25-G1195) 
LOCATION:Waldershof, Grundschule, Ludwig-Hoffmann-Straße 2, 95679 Waldershof
END:VEVENT
BEGIN:VEVENT
DTSTAMP:20260424T184859
DTSTART;TZID=Europe/Berlin:20260521T090000
DTEND;TZID=Europe/Berlin:20260521T100000
UID:25-G1195-20260521T090000@TIRSCHENREUTH
SUMMARY:Fit am Morgen (25-G1195) 
LOCATION:Waldershof, Katholisches Pfarrheim (Kirchsteig 6), Kirchsteig 6, 95679 Waldershof
END:VEVENT
END:VCALENDAR