BEGIN:VCALENDAR
VERSION:2.0
PRODID:http://www.kufer.de/kuferweb / DE
METHOD:PUBLISH
CALSCALE:GREGORIAN
X-WR-TIMEZONE:Europe/Berlin
BEGIN:VTIMEZONE
TZID:Europe/Berlin
X-LIC-LOCATION:Europe/Berlin
BEGIN:DAYLIGHT
TZOFFSETFROM:+0100
TZOFFSETTO:+0200
TZNAME:CEST
DTSTART;TZID=Europe/Berlin:19700329T020000
RRULE:FREQ=YEARLY;INTERVAL=1;BYDAY=-1SU;BYMONTH=3
END:DAYLIGHT
BEGIN:STANDARD
TZOFFSETFROM:+0200
TZOFFSETTO:+0100
TZNAME:CET
DTSTART;TZID=Europe/Berlin:19701025T030000
RRULE:FREQ=YEARLY;INTERVAL=1;BYDAY=-1SU;BYMONTH=10
END:STANDARD
END:VTIMEZONE
BEGIN:VEVENT
DTSTAMP:20260423T230133
DTSTART;TZID=Europe/Berlin:20250917T183000
DTEND;TZID=Europe/Berlin:20250917T193000
UID:25-G1161-20250917T183000@TIRSCHENREUTH
SUMMARY:Zumba®Fitness (25-G1161) 
LOCATION:Pechbrunn - Groschlattengrün,  Kinderhaus, Turnraum, Quellenweg 21, 95701 Pechbrunn-Groschlattengrün
END:VEVENT
BEGIN:VEVENT
DTSTAMP:20260423T230133
DTSTART;TZID=Europe/Berlin:20250924T183000
DTEND;TZID=Europe/Berlin:20250924T193000
UID:25-G1161-20250924T183000@TIRSCHENREUTH
SUMMARY:Zumba®Fitness (25-G1161) 
LOCATION:Pechbrunn - Groschlattengrün,  Kinderhaus, Turnraum, Quellenweg 21, 95701 Pechbrunn-Groschlattengrün
END:VEVENT
BEGIN:VEVENT
DTSTAMP:20260423T230133
DTSTART;TZID=Europe/Berlin:20251001T183000
DTEND;TZID=Europe/Berlin:20251001T193000
UID:25-G1161-20251001T183000@TIRSCHENREUTH
SUMMARY:Zumba®Fitness (25-G1161) 
LOCATION:Pechbrunn - Groschlattengrün,  Kinderhaus, Turnraum, Quellenweg 21, 95701 Pechbrunn-Groschlattengrün
END:VEVENT
BEGIN:VEVENT
DTSTAMP:20260423T230133
DTSTART;TZID=Europe/Berlin:20251008T183000
DTEND;TZID=Europe/Berlin:20251008T193000
UID:25-G1161-20251008T183000@TIRSCHENREUTH
SUMMARY:Zumba®Fitness (25-G1161) 
LOCATION:Pechbrunn - Groschlattengrün,  Kinderhaus, Turnraum, Quellenweg 21, 95701 Pechbrunn-Groschlattengrün
END:VEVENT
BEGIN:VEVENT
DTSTAMP:20260423T230133
DTSTART;TZID=Europe/Berlin:20251015T183000
DTEND;TZID=Europe/Berlin:20251015T193000
UID:25-G1161-20251015T183000@TIRSCHENREUTH
SUMMARY:Zumba®Fitness (25-G1161) 
LOCATION:Pechbrunn - Groschlattengrün,  Kinderhaus, Turnraum, Quellenweg 21, 95701 Pechbrunn-Groschlattengrün
END:VEVENT
BEGIN:VEVENT
DTSTAMP:20260423T230133
DTSTART;TZID=Europe/Berlin:20251022T183000
DTEND;TZID=Europe/Berlin:20251022T193000
UID:25-G1161-20251022T183000@TIRSCHENREUTH
SUMMARY:Zumba®Fitness (25-G1161) 
LOCATION:Pechbrunn - Groschlattengrün,  Kinderhaus, Turnraum, Quellenweg 21, 95701 Pechbrunn-Groschlattengrün
END:VEVENT
BEGIN:VEVENT
DTSTAMP:20260423T230133
DTSTART;TZID=Europe/Berlin:20251029T183000
DTEND;TZID=Europe/Berlin:20251029T193000
UID:25-G1161-20251029T183000@TIRSCHENREUTH
SUMMARY:Zumba®Fitness (25-G1161) 
LOCATION:Pechbrunn - Groschlattengrün,  Kinderhaus, Turnraum, Quellenweg 21, 95701 Pechbrunn-Groschlattengrün
END:VEVENT
BEGIN:VEVENT
DTSTAMP:20260423T230133
DTSTART;TZID=Europe/Berlin:20251112T183000
DTEND;TZID=Europe/Berlin:20251112T193000
UID:25-G1161-20251112T183000@TIRSCHENREUTH
SUMMARY:Zumba®Fitness (25-G1161) 
LOCATION:Pechbrunn - Groschlattengrün,  Kinderhaus, Turnraum, Quellenweg 21, 95701 Pechbrunn-Groschlattengrün
END:VEVENT
BEGIN:VEVENT
DTSTAMP:20260423T230133
DTSTART;TZID=Europe/Berlin:20251119T183000
DTEND;TZID=Europe/Berlin:20251119T193000
UID:25-G1161-20251119T183000@TIRSCHENREUTH
SUMMARY:Zumba®Fitness (25-G1161) 
LOCATION:Pechbrunn - Groschlattengrün,  Kinderhaus, Turnraum, Quellenweg 21, 95701 Pechbrunn-Groschlattengrün
END:VEVENT
BEGIN:VEVENT
DTSTAMP:20260423T230133
DTSTART;TZID=Europe/Berlin:20251126T183000
DTEND;TZID=Europe/Berlin:20251126T193000
UID:25-G1161-20251126T183000@TIRSCHENREUTH
SUMMARY:Zumba®Fitness (25-G1161) 
LOCATION:Pechbrunn - Groschlattengrün,  Kinderhaus, Turnraum, Quellenweg 21, 95701 Pechbrunn-Groschlattengrün
END:VEVENT
END:VCALENDAR