BEGIN:VCALENDAR
VERSION:2.0
PRODID:http://www.kufer.de/kuferweb / DE
METHOD:PUBLISH
CALSCALE:GREGORIAN
X-WR-TIMEZONE:Europe/Berlin
BEGIN:VTIMEZONE
TZID:Europe/Berlin
X-LIC-LOCATION:Europe/Berlin
BEGIN:DAYLIGHT
TZOFFSETFROM:+0100
TZOFFSETTO:+0200
TZNAME:CEST
DTSTART;TZID=Europe/Berlin:19700329T020000
RRULE:FREQ=YEARLY;INTERVAL=1;BYDAY=-1SU;BYMONTH=3
END:DAYLIGHT
BEGIN:STANDARD
TZOFFSETFROM:+0200
TZOFFSETTO:+0100
TZNAME:CET
DTSTART;TZID=Europe/Berlin:19701025T030000
RRULE:FREQ=YEARLY;INTERVAL=1;BYDAY=-1SU;BYMONTH=10
END:STANDARD
END:VTIMEZONE
BEGIN:VEVENT
DTSTAMP:20260424T184900
DTSTART;TZID=Europe/Berlin:20260414T171500
DTEND;TZID=Europe/Berlin:20260414T181500
UID:25-G1150-20260414T171500@TIRSCHENREUTH
SUMMARY:"Fit for summer" (25-G1150) 
LOCATION:Mitterteich, Kellnerhaus (Bachstraße 4), Bachstraße 4, 95666 Mitterteich
END:VEVENT
BEGIN:VEVENT
DTSTAMP:20260424T184900
DTSTART;TZID=Europe/Berlin:20260421T171500
DTEND;TZID=Europe/Berlin:20260421T181500
UID:25-G1150-20260421T171500@TIRSCHENREUTH
SUMMARY:"Fit for summer" (25-G1150) 
LOCATION:Mitterteich, Kellnerhaus (Bachstraße 4), Bachstraße 4, 95666 Mitterteich
END:VEVENT
BEGIN:VEVENT
DTSTAMP:20260424T184900
DTSTART;TZID=Europe/Berlin:20260428T171500
DTEND;TZID=Europe/Berlin:20260428T181500
UID:25-G1150-20260428T171500@TIRSCHENREUTH
SUMMARY:"Fit for summer" (25-G1150) 
LOCATION:Mitterteich, Kellnerhaus (Bachstraße 4), Bachstraße 4, 95666 Mitterteich
END:VEVENT
BEGIN:VEVENT
DTSTAMP:20260424T184900
DTSTART;TZID=Europe/Berlin:20260505T171500
DTEND;TZID=Europe/Berlin:20260505T181500
UID:25-G1150-20260505T171500@TIRSCHENREUTH
SUMMARY:"Fit for summer" (25-G1150) 
LOCATION:Mitterteich, Kellnerhaus (Bachstraße 4), Bachstraße 4, 95666 Mitterteich
END:VEVENT
BEGIN:VEVENT
DTSTAMP:20260424T184900
DTSTART;TZID=Europe/Berlin:20260512T171500
DTEND;TZID=Europe/Berlin:20260512T181500
UID:25-G1150-20260512T171500@TIRSCHENREUTH
SUMMARY:"Fit for summer" (25-G1150) 
LOCATION:Mitterteich, Kellnerhaus (Bachstraße 4), Bachstraße 4, 95666 Mitterteich
END:VEVENT
BEGIN:VEVENT
DTSTAMP:20260424T184900
DTSTART;TZID=Europe/Berlin:20260519T171500
DTEND;TZID=Europe/Berlin:20260519T181500
UID:25-G1150-20260519T171500@TIRSCHENREUTH
SUMMARY:"Fit for summer" (25-G1150) 
LOCATION:Mitterteich, Kellnerhaus (Bachstraße 4), Bachstraße 4, 95666 Mitterteich
END:VEVENT
END:VCALENDAR