BEGIN:VCALENDAR
VERSION:2.0
PRODID:http://www.kufer.de/kuferweb / DE
METHOD:PUBLISH
CALSCALE:GREGORIAN
X-WR-TIMEZONE:Europe/Berlin
BEGIN:VTIMEZONE
TZID:Europe/Berlin
X-LIC-LOCATION:Europe/Berlin
BEGIN:DAYLIGHT
TZOFFSETFROM:+0100
TZOFFSETTO:+0200
TZNAME:CEST
DTSTART;TZID=Europe/Berlin:19700329T020000
RRULE:FREQ=YEARLY;INTERVAL=1;BYDAY=-1SU;BYMONTH=3
END:DAYLIGHT
BEGIN:STANDARD
TZOFFSETFROM:+0200
TZOFFSETTO:+0100
TZNAME:CET
DTSTART;TZID=Europe/Berlin:19701025T030000
RRULE:FREQ=YEARLY;INTERVAL=1;BYDAY=-1SU;BYMONTH=10
END:STANDARD
END:VTIMEZONE
BEGIN:VEVENT
DTSTAMP:20260424T200947
DTSTART;TZID=Europe/Berlin:20260420T193000
DTEND;TZID=Europe/Berlin:20260420T203000
UID:25-G1114B-20260420T193000@TIRSCHENREUTH
SUMMARY:Zumba®Fitness (25-G1114B) 
LOCATION:Kemnath, Realschule (Badstraße 9), Turnhalle, Badstraße 9, 95478 Kemnath
END:VEVENT
BEGIN:VEVENT
DTSTAMP:20260424T200947
DTSTART;TZID=Europe/Berlin:20260427T193000
DTEND;TZID=Europe/Berlin:20260427T203000
UID:25-G1114B-20260427T193000@TIRSCHENREUTH
SUMMARY:Zumba®Fitness (25-G1114B) 
LOCATION:Kemnath, Realschule (Badstraße 9), Turnhalle, Badstraße 9, 95478 Kemnath
END:VEVENT
BEGIN:VEVENT
DTSTAMP:20260424T200947
DTSTART;TZID=Europe/Berlin:20260504T193000
DTEND;TZID=Europe/Berlin:20260504T203000
UID:25-G1114B-20260504T193000@TIRSCHENREUTH
SUMMARY:Zumba®Fitness (25-G1114B) 
LOCATION:Kemnath, Realschule (Badstraße 9), Turnhalle, Badstraße 9, 95478 Kemnath
END:VEVENT
BEGIN:VEVENT
DTSTAMP:20260424T200947
DTSTART;TZID=Europe/Berlin:20260511T193000
DTEND;TZID=Europe/Berlin:20260511T203000
UID:25-G1114B-20260511T193000@TIRSCHENREUTH
SUMMARY:Zumba®Fitness (25-G1114B) 
LOCATION:Kemnath, Realschule (Badstraße 9), Turnhalle, Badstraße 9, 95478 Kemnath
END:VEVENT
BEGIN:VEVENT
DTSTAMP:20260424T200947
DTSTART;TZID=Europe/Berlin:20260518T193000
DTEND;TZID=Europe/Berlin:20260518T203000
UID:25-G1114B-20260518T193000@TIRSCHENREUTH
DESCRIPTION:Ersatz für Ausfall am 13.04.2026
SUMMARY:Zumba®Fitness (25-G1114B) 
LOCATION:Kemnath, Realschule (Badstraße 9), Turnhalle, Badstraße 9, 95478 Kemnath
END:VEVENT
END:VCALENDAR