BEGIN:VCALENDAR
VERSION:2.0
PRODID:http://www.kufer.de/kuferweb / DE
METHOD:PUBLISH
CALSCALE:GREGORIAN
X-WR-TIMEZONE:Europe/Berlin
BEGIN:VTIMEZONE
TZID:Europe/Berlin
X-LIC-LOCATION:Europe/Berlin
BEGIN:DAYLIGHT
TZOFFSETFROM:+0100
TZOFFSETTO:+0200
TZNAME:CEST
DTSTART;TZID=Europe/Berlin:19700329T020000
RRULE:FREQ=YEARLY;INTERVAL=1;BYDAY=-1SU;BYMONTH=3
END:DAYLIGHT
BEGIN:STANDARD
TZOFFSETFROM:+0200
TZOFFSETTO:+0100
TZNAME:CET
DTSTART;TZID=Europe/Berlin:19701025T030000
RRULE:FREQ=YEARLY;INTERVAL=1;BYDAY=-1SU;BYMONTH=10
END:STANDARD
END:VTIMEZONE
BEGIN:VEVENT
DTSTAMP:20260422T004859
DTSTART;TZID=Europe/Berlin:20250922T193000
DTEND;TZID=Europe/Berlin:20250922T203000
UID:25-G1113-20250922T193000@TIRSCHENREUTH
SUMMARY:Zumba®Fitness (25-G1113) 
LOCATION:Kemnath, Realschule (Badstraße 9), Turnhalle, Badstraße 9, 95478 Kemnath
END:VEVENT
BEGIN:VEVENT
DTSTAMP:20260422T004859
DTSTART;TZID=Europe/Berlin:20250929T193000
DTEND;TZID=Europe/Berlin:20250929T203000
UID:25-G1113-20250929T193000@TIRSCHENREUTH
SUMMARY:Zumba®Fitness (25-G1113) 
LOCATION:Kemnath, Realschule (Badstraße 9), Turnhalle, Badstraße 9, 95478 Kemnath
END:VEVENT
BEGIN:VEVENT
DTSTAMP:20260422T004859
DTSTART;TZID=Europe/Berlin:20251006T193000
DTEND;TZID=Europe/Berlin:20251006T203000
UID:25-G1113-20251006T193000@TIRSCHENREUTH
SUMMARY:Zumba®Fitness (25-G1113) 
LOCATION:Kemnath, Realschule (Badstraße 9), Turnhalle, Badstraße 9, 95478 Kemnath
END:VEVENT
BEGIN:VEVENT
DTSTAMP:20260422T004859
DTSTART;TZID=Europe/Berlin:20251013T193000
DTEND;TZID=Europe/Berlin:20251013T203000
UID:25-G1113-20251013T193000@TIRSCHENREUTH
SUMMARY:Zumba®Fitness (25-G1113) 
LOCATION:Kemnath, Realschule (Badstraße 9), Turnhalle, Badstraße 9, 95478 Kemnath
END:VEVENT
BEGIN:VEVENT
DTSTAMP:20260422T004859
DTSTART;TZID=Europe/Berlin:20251020T193000
DTEND;TZID=Europe/Berlin:20251020T203000
UID:25-G1113-20251020T193000@TIRSCHENREUTH
SUMMARY:Zumba®Fitness (25-G1113) 
LOCATION:Kemnath, Realschule (Badstraße 9), Turnhalle, Badstraße 9, 95478 Kemnath
END:VEVENT
BEGIN:VEVENT
DTSTAMP:20260422T004859
DTSTART;TZID=Europe/Berlin:20251027T193000
DTEND;TZID=Europe/Berlin:20251027T203000
UID:25-G1113-20251027T193000@TIRSCHENREUTH
SUMMARY:Zumba®Fitness (25-G1113) 
LOCATION:Kemnath, Realschule (Badstraße 9), Turnhalle, Badstraße 9, 95478 Kemnath
END:VEVENT
BEGIN:VEVENT
DTSTAMP:20260422T004859
DTSTART;TZID=Europe/Berlin:20251110T193000
DTEND;TZID=Europe/Berlin:20251110T203000
UID:25-G1113-20251110T193000@TIRSCHENREUTH
SUMMARY:Zumba®Fitness (25-G1113) 
LOCATION:Kemnath, Realschule (Badstraße 9), Turnhalle, Badstraße 9, 95478 Kemnath
END:VEVENT
BEGIN:VEVENT
DTSTAMP:20260422T004859
DTSTART;TZID=Europe/Berlin:20251117T193000
DTEND;TZID=Europe/Berlin:20251117T203000
UID:25-G1113-20251117T193000@TIRSCHENREUTH
SUMMARY:Zumba®Fitness (25-G1113) 
LOCATION:Kemnath, Realschule (Badstraße 9), Turnhalle, Badstraße 9, 95478 Kemnath
END:VEVENT
BEGIN:VEVENT
DTSTAMP:20260422T004859
DTSTART;TZID=Europe/Berlin:20251124T193000
DTEND;TZID=Europe/Berlin:20251124T203000
UID:25-G1113-20251124T193000@TIRSCHENREUTH
SUMMARY:Zumba®Fitness (25-G1113) 
LOCATION:Kemnath, Realschule (Badstraße 9), Turnhalle, Badstraße 9, 95478 Kemnath
END:VEVENT
BEGIN:VEVENT
DTSTAMP:20260422T004859
DTSTART;TZID=Europe/Berlin:20251201T193000
DTEND;TZID=Europe/Berlin:20251201T203000
UID:25-G1113-20251201T193000@TIRSCHENREUTH
SUMMARY:Zumba®Fitness (25-G1113) 
LOCATION:Kemnath, Realschule (Badstraße 9), Turnhalle, Badstraße 9, 95478 Kemnath
END:VEVENT
END:VCALENDAR