BEGIN:VCALENDAR
VERSION:2.0
PRODID:http://www.kufer.de/kuferweb / DE
METHOD:PUBLISH
CALSCALE:GREGORIAN
X-WR-TIMEZONE:Europe/Berlin
BEGIN:VTIMEZONE
TZID:Europe/Berlin
X-LIC-LOCATION:Europe/Berlin
BEGIN:DAYLIGHT
TZOFFSETFROM:+0100
TZOFFSETTO:+0200
TZNAME:CEST
DTSTART;TZID=Europe/Berlin:19700329T020000
RRULE:FREQ=YEARLY;INTERVAL=1;BYDAY=-1SU;BYMONTH=3
END:DAYLIGHT
BEGIN:STANDARD
TZOFFSETFROM:+0200
TZOFFSETTO:+0100
TZNAME:CET
DTSTART;TZID=Europe/Berlin:19701025T030000
RRULE:FREQ=YEARLY;INTERVAL=1;BYDAY=-1SU;BYMONTH=10
END:STANDARD
END:VTIMEZONE
BEGIN:VEVENT
DTSTAMP:20260424T184837
DTSTART;TZID=Europe/Berlin:20260414T190000
DTEND;TZID=Europe/Berlin:20260414T200000
UID:25-G1105-20260414T190000@TIRSCHENREUTH
SUMMARY:BodyFitness (25-G1105) 
LOCATION:Fuchsmühl, Mehrzweckhalle, Schulstraße 20, 95689 Fuchsmühl
END:VEVENT
BEGIN:VEVENT
DTSTAMP:20260424T184837
DTSTART;TZID=Europe/Berlin:20260421T190000
DTEND;TZID=Europe/Berlin:20260421T200000
UID:25-G1105-20260421T190000@TIRSCHENREUTH
SUMMARY:BodyFitness (25-G1105) 
LOCATION:Fuchsmühl, Mehrzweckhalle, Schulstraße 20, 95689 Fuchsmühl
END:VEVENT
BEGIN:VEVENT
DTSTAMP:20260424T184837
DTSTART;TZID=Europe/Berlin:20260428T190000
DTEND;TZID=Europe/Berlin:20260428T200000
UID:25-G1105-20260428T190000@TIRSCHENREUTH
SUMMARY:BodyFitness (25-G1105) 
LOCATION:Fuchsmühl, Mehrzweckhalle, Schulstraße 20, 95689 Fuchsmühl
END:VEVENT
BEGIN:VEVENT
DTSTAMP:20260424T184837
DTSTART;TZID=Europe/Berlin:20260505T190000
DTEND;TZID=Europe/Berlin:20260505T200000
UID:25-G1105-20260505T190000@TIRSCHENREUTH
SUMMARY:BodyFitness (25-G1105) 
LOCATION:Fuchsmühl, Mehrzweckhalle, Schulstraße 20, 95689 Fuchsmühl
END:VEVENT
BEGIN:VEVENT
DTSTAMP:20260424T184837
DTSTART;TZID=Europe/Berlin:20260512T190000
DTEND;TZID=Europe/Berlin:20260512T200000
UID:25-G1105-20260512T190000@TIRSCHENREUTH
SUMMARY:BodyFitness (25-G1105) 
LOCATION:Fuchsmühl, Mehrzweckhalle, Schulstraße 20, 95689 Fuchsmühl
END:VEVENT
END:VCALENDAR