BEGIN:VCALENDAR
VERSION:2.0
PRODID:http://www.kufer.de/kuferweb / DE
METHOD:PUBLISH
CALSCALE:GREGORIAN
X-WR-TIMEZONE:Europe/Berlin
BEGIN:VTIMEZONE
TZID:Europe/Berlin
X-LIC-LOCATION:Europe/Berlin
BEGIN:DAYLIGHT
TZOFFSETFROM:+0100
TZOFFSETTO:+0200
TZNAME:CEST
DTSTART;TZID=Europe/Berlin:19700329T020000
RRULE:FREQ=YEARLY;INTERVAL=1;BYDAY=-1SU;BYMONTH=3
END:DAYLIGHT
BEGIN:STANDARD
TZOFFSETFROM:+0200
TZOFFSETTO:+0100
TZNAME:CET
DTSTART;TZID=Europe/Berlin:19701025T030000
RRULE:FREQ=YEARLY;INTERVAL=1;BYDAY=-1SU;BYMONTH=10
END:STANDARD
END:VTIMEZONE
BEGIN:VEVENT
DTSTAMP:20260420T233709
DTSTART;TZID=Europe/Berlin:20260421T184500
DTEND;TZID=Europe/Berlin:20260421T194500
UID:25-G1027B-20260421T184500@TIRSCHENREUTH
SUMMARY:Muscle-Power-Workout - Langhantel-Training (25-G1027B) 
LOCATION:Tirschenreuth, Landratsamt (Mähringer Straße 9), vhs-Gymnastikraum, Mähringer Straße 9, 95643 Tirschenreuth
END:VEVENT
BEGIN:VEVENT
DTSTAMP:20260420T233709
DTSTART;TZID=Europe/Berlin:20260428T184500
DTEND;TZID=Europe/Berlin:20260428T194500
UID:25-G1027B-20260428T184500@TIRSCHENREUTH
SUMMARY:Muscle-Power-Workout - Langhantel-Training (25-G1027B) 
LOCATION:Tirschenreuth, Landratsamt (Mähringer Straße 9), vhs-Gymnastikraum, Mähringer Straße 9, 95643 Tirschenreuth
END:VEVENT
BEGIN:VEVENT
DTSTAMP:20260420T233709
DTSTART;TZID=Europe/Berlin:20260505T184500
DTEND;TZID=Europe/Berlin:20260505T194500
UID:25-G1027B-20260505T184500@TIRSCHENREUTH
SUMMARY:Muscle-Power-Workout - Langhantel-Training (25-G1027B) 
LOCATION:Tirschenreuth, Landratsamt (Mähringer Straße 9), vhs-Gymnastikraum, Mähringer Straße 9, 95643 Tirschenreuth
END:VEVENT
BEGIN:VEVENT
DTSTAMP:20260420T233709
DTSTART;TZID=Europe/Berlin:20260512T184500
DTEND;TZID=Europe/Berlin:20260512T194500
UID:25-G1027B-20260512T184500@TIRSCHENREUTH
SUMMARY:Muscle-Power-Workout - Langhantel-Training (25-G1027B) 
LOCATION:Tirschenreuth, Landratsamt (Mähringer Straße 9), vhs-Gymnastikraum, Mähringer Straße 9, 95643 Tirschenreuth
END:VEVENT
BEGIN:VEVENT
DTSTAMP:20260420T233709
DTSTART;TZID=Europe/Berlin:20260519T184500
DTEND;TZID=Europe/Berlin:20260519T194500
UID:25-G1027B-20260519T184500@TIRSCHENREUTH
SUMMARY:Muscle-Power-Workout - Langhantel-Training (25-G1027B) 
LOCATION:Tirschenreuth, Landratsamt (Mähringer Straße 9), vhs-Gymnastikraum, Mähringer Straße 9, 95643 Tirschenreuth
END:VEVENT
END:VCALENDAR