BEGIN:VCALENDAR
VERSION:2.0
PRODID:http://www.kufer.de/kuferweb / DE
METHOD:PUBLISH
CALSCALE:GREGORIAN
X-WR-TIMEZONE:Europe/Berlin
BEGIN:VTIMEZONE
TZID:Europe/Berlin
X-LIC-LOCATION:Europe/Berlin
BEGIN:DAYLIGHT
TZOFFSETFROM:+0100
TZOFFSETTO:+0200
TZNAME:CEST
DTSTART;TZID=Europe/Berlin:19700329T020000
RRULE:FREQ=YEARLY;INTERVAL=1;BYDAY=-1SU;BYMONTH=3
END:DAYLIGHT
BEGIN:STANDARD
TZOFFSETFROM:+0200
TZOFFSETTO:+0100
TZNAME:CET
DTSTART;TZID=Europe/Berlin:19701025T030000
RRULE:FREQ=YEARLY;INTERVAL=1;BYDAY=-1SU;BYMONTH=10
END:STANDARD
END:VTIMEZONE
BEGIN:VEVENT
DTSTAMP:20260424T065000
DTSTART;TZID=Europe/Berlin:20260413T183000
DTEND;TZID=Europe/Berlin:20260413T193000
UID:25-G1023-20260413T183000@TIRSCHENREUTH
SUMMARY:"Step and Shape" (25-G1023) 
LOCATION:Tirschenreuth, Marienschule, neue Turnhalle, Lengenfelder Weg 4, 95643 Tirschenreuth
END:VEVENT
BEGIN:VEVENT
DTSTAMP:20260424T065000
DTSTART;TZID=Europe/Berlin:20260420T183000
DTEND;TZID=Europe/Berlin:20260420T193000
UID:25-G1023-20260420T183000@TIRSCHENREUTH
SUMMARY:"Step and Shape" (25-G1023) 
LOCATION:Tirschenreuth, Marienschule, neue Turnhalle, Lengenfelder Weg 4, 95643 Tirschenreuth
END:VEVENT
BEGIN:VEVENT
DTSTAMP:20260424T065000
DTSTART;TZID=Europe/Berlin:20260504T183000
DTEND;TZID=Europe/Berlin:20260504T193000
UID:25-G1023-20260504T183000@TIRSCHENREUTH
SUMMARY:"Step and Shape" (25-G1023) 
LOCATION:Tirschenreuth, Marienschule, neue Turnhalle, Lengenfelder Weg 4, 95643 Tirschenreuth
END:VEVENT
BEGIN:VEVENT
DTSTAMP:20260424T065000
DTSTART;TZID=Europe/Berlin:20260511T183000
DTEND;TZID=Europe/Berlin:20260511T193000
UID:25-G1023-20260511T183000@TIRSCHENREUTH
SUMMARY:"Step and Shape" (25-G1023) 
LOCATION:Tirschenreuth, Marienschule, neue Turnhalle, Lengenfelder Weg 4, 95643 Tirschenreuth
END:VEVENT
BEGIN:VEVENT
DTSTAMP:20260424T065000
DTSTART;TZID=Europe/Berlin:20260518T183000
DTEND;TZID=Europe/Berlin:20260518T193000
UID:25-G1023-20260518T183000@TIRSCHENREUTH
DESCRIPTION:Ersatz für Ausfall am 27.04.2026
SUMMARY:"Step and Shape" (25-G1023) 
LOCATION:Tirschenreuth, Marienschule, neue Turnhalle, Lengenfelder Weg 4, 95643 Tirschenreuth
END:VEVENT
END:VCALENDAR