BEGIN:VCALENDAR
VERSION:2.0
PRODID:http://www.kufer.de/kuferweb / DE
METHOD:PUBLISH
CALSCALE:GREGORIAN
X-WR-TIMEZONE:Europe/Berlin
BEGIN:VTIMEZONE
TZID:Europe/Berlin
X-LIC-LOCATION:Europe/Berlin
BEGIN:DAYLIGHT
TZOFFSETFROM:+0100
TZOFFSETTO:+0200
TZNAME:CEST
DTSTART;TZID=Europe/Berlin:19700329T020000
RRULE:FREQ=YEARLY;INTERVAL=1;BYDAY=-1SU;BYMONTH=3
END:DAYLIGHT
BEGIN:STANDARD
TZOFFSETFROM:+0200
TZOFFSETTO:+0100
TZNAME:CET
DTSTART;TZID=Europe/Berlin:19701025T030000
RRULE:FREQ=YEARLY;INTERVAL=1;BYDAY=-1SU;BYMONTH=10
END:STANDARD
END:VTIMEZONE
BEGIN:VEVENT
DTSTAMP:20260424T065521
DTSTART;TZID=Europe/Berlin:20260425T030000
DTEND;TZID=Europe/Berlin:20260425T200000
UID:25-A6203-20260425T030000@TIRSCHENREUTH
SUMMARY:Kultur und Genuss-Wandern auf Korfu:  Wo Griechenlands grünes Herz schlägt (25-A6203) 
LOCATION:Abfahrt: 3:00 Kemnath / 3:20 Krummennaab / 3:45 Tirschenreuth, , 
END:VEVENT
BEGIN:VEVENT
DTSTAMP:20260424T065521
DTSTART;TZID=Europe/Berlin:20260426T080000
DTEND;TZID=Europe/Berlin:20260426T200000
UID:25-A6203-20260426T080000@TIRSCHENREUTH
SUMMARY:Kultur und Genuss-Wandern auf Korfu:  Wo Griechenlands grünes Herz schlägt (25-A6203) 
LOCATION:Korfu, , 
END:VEVENT
BEGIN:VEVENT
DTSTAMP:20260424T065521
DTSTART;TZID=Europe/Berlin:20260427T080000
DTEND;TZID=Europe/Berlin:20260427T200000
UID:25-A6203-20260427T080000@TIRSCHENREUTH
SUMMARY:Kultur und Genuss-Wandern auf Korfu:  Wo Griechenlands grünes Herz schlägt (25-A6203) 
LOCATION:Korfu, , 
END:VEVENT
BEGIN:VEVENT
DTSTAMP:20260424T065521
DTSTART;TZID=Europe/Berlin:20260428T080000
DTEND;TZID=Europe/Berlin:20260428T200000
UID:25-A6203-20260428T080000@TIRSCHENREUTH
SUMMARY:Kultur und Genuss-Wandern auf Korfu:  Wo Griechenlands grünes Herz schlägt (25-A6203) 
LOCATION:Korfu, , 
END:VEVENT
BEGIN:VEVENT
DTSTAMP:20260424T065521
DTSTART;TZID=Europe/Berlin:20260429T080000
DTEND;TZID=Europe/Berlin:20260429T200000
UID:25-A6203-20260429T080000@TIRSCHENREUTH
SUMMARY:Kultur und Genuss-Wandern auf Korfu:  Wo Griechenlands grünes Herz schlägt (25-A6203) 
LOCATION:Korfu, , 
END:VEVENT
BEGIN:VEVENT
DTSTAMP:20260424T065521
DTSTART;TZID=Europe/Berlin:20260430T080000
DTEND;TZID=Europe/Berlin:20260430T200000
UID:25-A6203-20260430T080000@TIRSCHENREUTH
SUMMARY:Kultur und Genuss-Wandern auf Korfu:  Wo Griechenlands grünes Herz schlägt (25-A6203) 
LOCATION:Korfu, , 
END:VEVENT
BEGIN:VEVENT
DTSTAMP:20260424T065521
DTSTART;TZID=Europe/Berlin:20260501T080000
DTEND;TZID=Europe/Berlin:20260501T200000
UID:25-A6203-20260501T080000@TIRSCHENREUTH
SUMMARY:Kultur und Genuss-Wandern auf Korfu:  Wo Griechenlands grünes Herz schlägt (25-A6203) 
LOCATION:Korfu, , 
END:VEVENT
BEGIN:VEVENT
DTSTAMP:20260424T065521
DTSTART;TZID=Europe/Berlin:20260502T080000
DTEND;TZID=Europe/Berlin:20260502T200000
UID:25-A6203-20260502T080000@TIRSCHENREUTH
SUMMARY:Kultur und Genuss-Wandern auf Korfu:  Wo Griechenlands grünes Herz schlägt (25-A6203) 
LOCATION:Rückflug ab Korfu / Busfahrt München - Tirschenreuth, , 
END:VEVENT
END:VCALENDAR