BEGIN:VCALENDAR
VERSION:2.0
PRODID:http://www.kufer.de/kuferweb / DE
METHOD:PUBLISH
CALSCALE:GREGORIAN
X-WR-TIMEZONE:Europe/Berlin
BEGIN:VTIMEZONE
TZID:Europe/Berlin
X-LIC-LOCATION:Europe/Berlin
BEGIN:DAYLIGHT
TZOFFSETFROM:+0100
TZOFFSETTO:+0200
TZNAME:CEST
DTSTART;TZID=Europe/Berlin:19700329T020000
RRULE:FREQ=YEARLY;INTERVAL=1;BYDAY=-1SU;BYMONTH=3
END:DAYLIGHT
BEGIN:STANDARD
TZOFFSETFROM:+0200
TZOFFSETTO:+0100
TZNAME:CET
DTSTART;TZID=Europe/Berlin:19701025T030000
RRULE:FREQ=YEARLY;INTERVAL=1;BYDAY=-1SU;BYMONTH=10
END:STANDARD
END:VTIMEZONE
BEGIN:VEVENT
DTSTAMP:20260424T191143
DTSTART;TZID=Europe/Berlin:20260620T080000
DTEND;TZID=Europe/Berlin:20260620T150000
UID:25-A2011-20260620T080000@TIRSCHENREUTH
SUMMARY:Motorsägenkurs für Brennholz-Selbstwerber  und Waldbesitzer (25-A2011) 
LOCATION:Waldershof, Freiwillige Feuerwehr (Walbenreuther Straße 6), Walbenreuther Straße 6, 95679 Waldershof
END:VEVENT
BEGIN:VEVENT
DTSTAMP:20260424T191143
DTSTART;TZID=Europe/Berlin:20260627T080000
DTEND;TZID=Europe/Berlin:20260627T150000
UID:25-A2011-20260627T080000@TIRSCHENREUTH
SUMMARY:Motorsägenkurs für Brennholz-Selbstwerber  und Waldbesitzer (25-A2011) 
LOCATION:Waldershof, Freiwillige Feuerwehr (Walbenreuther Straße 6), Walbenreuther Straße 6, 95679 Waldershof
END:VEVENT
END:VCALENDAR